BEGIN:VCALENDAR
VERSION:2.0
PRODID:-//Plone.org//NONSGML plone.app.event//EN
X-WR-TIMEZONE:Europe/Berlin
BEGIN:VEVENT
SUMMARY:Wörter auf Wanderung: Wortschatz als Spiegel kultureller Verflech
 tungen und Innovationen
DTSTART;TZID=Europe/Berlin:20221130T201500
DTEND;TZID=Europe/Berlin:20221130T214500
DTSTAMP:20260425T045504Z
UID:b9acf8c46dcd457e895335882555a806@www.uni-marburg.de
ATTENDEE;CN="Prof. Dr. Stefan Weninger, Semitistik, CNMS, Philipps-Univers
 ität Marburg";ROLE=REQ-PARTICIPANT:Prof. Dr. Stefan Weninger, Semitistik,
  CNMS, Philipps-Universität Marburg
CREATED:20220927T120842Z
DESCRIPTION:https://www.uni-marburg.de/de/cnms/aktuelles/termine/woerter-a
 uf-wanderung-wortschatz-als-spiegel-kultureller-verflechtungen-und-innovat
 ionen\nStudium Generale der Philipps-Universität Marburg im Wintersemeste
 r 2022/23
LAST-MODIFIED:20221010T102352Z
LOCATION:UB Vortragsraum
URL:https://www.uni-marburg.de/de/cnms/aktuelles/termine/woerter-auf-wande
 rung-wortschatz-als-spiegel-kultureller-verflechtungen-und-innovationen
END:VEVENT
BEGIN:VTIMEZONE
TZID:Europe/Berlin
X-LIC-LOCATION:Europe/Berlin
BEGIN:STANDARD
DTSTART:20221030T020000
TZNAME:CET
TZOFFSETFROM:+0200
TZOFFSETTO:+0100
END:STANDARD
END:VTIMEZONE
END:VCALENDAR
