BEGIN:VCALENDAR
VERSION:2.0
PRODID:-//Plone.org//NONSGML plone.app.event//EN
X-WR-TIMEZONE:Europe/Berlin
BEGIN:VEVENT
SUMMARY:Wohin treibt der Nahe Osten? Politische Interessen und Ordnungskon
 zepte im Widerstreit
DTSTART;TZID=Europe/Berlin:20221102T201500
DTEND;TZID=Europe/Berlin:20221102T214500
DTSTAMP:20260426T035530Z
UID:781e72a372834bebab1696f933d95be7@www.uni-marburg.de
ATTENDEE;CN="Prof. Dr. Udo Steinbach, Middle East North Africa (MENA) Stud
 y Centre / Maecenata Stiftung, Berlin";ROLE=REQ-PARTICIPANT:Prof. Dr. Udo 
 Steinbach, Middle East North Africa (MENA) Study Centre / Maecenata Stiftu
 ng, Berlin
CREATED:20220927T120442Z
DESCRIPTION:https://www.uni-marburg.de/de/cnms/aktuelles/termine/wohin-tre
 ibt-der-nahe-osten-politische-interessen-und-ordnungskonzepte-im-widerstre
 it\nStudium Generale der Philipps-Universität Marburg im Wintersemester 2
 022/23
LAST-MODIFIED:20221010T102633Z
LOCATION:UB Vortragsraum
URL:https://www.uni-marburg.de/de/cnms/aktuelles/termine/wohin-treibt-der-
 nahe-osten-politische-interessen-und-ordnungskonzepte-im-widerstreit
END:VEVENT
BEGIN:VTIMEZONE
TZID:Europe/Berlin
X-LIC-LOCATION:Europe/Berlin
BEGIN:STANDARD
DTSTART:20221030T020000
TZNAME:CET
TZOFFSETFROM:+0200
TZOFFSETTO:+0100
END:STANDARD
END:VTIMEZONE
END:VCALENDAR
