BEGIN:VCALENDAR
VERSION:2.0
PRODID:-//Plone.org//NONSGML plone.app.event//EN
X-WR-TIMEZONE:Europe/Berlin
BEGIN:VEVENT
SUMMARY:Workshop “Introduction to Iranian Music”
DTSTART;VALUE=DATE:20220707
DTEND;VALUE=DATE:20220710
DTSTAMP:20260419T163236Z
UID:34f405a4678f4c479b31f93e7c4c90c5@www.uni-marburg.de
CREATED:20220413T170552Z
DESCRIPTION:https://www.uni-marburg.de/de/cnms/aktuelles/termine/workshop-
 introduction-to-iranian-music201d\n
LAST-MODIFIED:20220413T170603Z
LOCATION:CNMS
URL:https://www.uni-marburg.de/de/cnms/aktuelles/termine/workshop-introduc
 tion-to-iranian-music201d
END:VEVENT
END:VCALENDAR
