BEGIN:VCALENDAR
VERSION:2.0
PRODID:-//Plone.org//NONSGML plone.app.event//EN
X-WR-TIMEZONE:Europe/Berlin
BEGIN:VEVENT
SUMMARY:Zentralasien-Exkursion - Letztes Treffen vor der Abreise
DTSTART;TZID=Europe/Berlin:20240514T160000
DTEND;TZID=Europe/Berlin:20240514T170000
DTSTAMP:20260421T160451Z
UID:cbf65b6b0ecc40fcb852986c7750896f@www.uni-marburg.de
CREATED:20240423T123039Z
DESCRIPTION:https://www.uni-marburg.de/de/cnms/aktuelles/termine/zentralas
 ien-exkursion-letztes-treffen-vor-der-abreise\nLiebe Mitreisende der Zentr
 alasien-Exkursion\,\n\nwir laden Sie und Euch herzlich zu unserem Treffen 
 für die\nZentralasien-Exkursion der Iranistik am Dienstag\, den 14.\nMai 
 2024\, um 16:00 Uhr\, im Casino ein.\n\nDieses Treffen ist ein wichtiger T
 ermin zur Vorbereitung der\nReise\, daher bitten wir alle Mitreisenden bei
 der\nStatusgruppen\, daran teilzunehmen.
LAST-MODIFIED:20240423T123047Z
LOCATION:CNMS Casino
URL:https://www.uni-marburg.de/de/cnms/aktuelles/termine/zentralasien-exku
 rsion-letztes-treffen-vor-der-abreise
END:VEVENT
BEGIN:VTIMEZONE
TZID:Europe/Berlin
X-LIC-LOCATION:Europe/Berlin
BEGIN:DAYLIGHT
DTSTART:20240331T030000
TZNAME:CEST
TZOFFSETFROM:+0100
TZOFFSETTO:+0200
END:DAYLIGHT
END:VTIMEZONE
END:VCALENDAR
