BEGIN:VCALENDAR
VERSION:2.0
PRODID:-//Plone.org//NONSGML plone.app.event//EN
X-WR-TIMEZONE:Europe/Berlin
BEGIN:VEVENT
SUMMARY:Gastvortrag von Jacob Dahl 'In the Fields of Susa'
DTSTART;TZID=Europe/Berlin:20260609T181500
DTEND;TZID=Europe/Berlin:20260609T193000
DTSTAMP:20260425T223417Z
UID:93d1919df42f4e0499c847dbbad708c3@www.uni-marburg.de
ATTENDEE;CN="Prof. Dr. Jacob L. Dahl (University of Oxford)";ROLE=REQ-PART
 ICIPANT:Prof. Dr. Jacob L. Dahl (University of Oxford)
CREATED:20260415T134127Z
DESCRIPTION:https://www.uni-marburg.de/de/cnms/altorientalistik/aktuelles/
 veranstaltungen/gastvortrag-von-jacob-dahl-in-the-fields-of-susa\n
LAST-MODIFIED:20260415T134137Z
LOCATION:Hörsaal 00A26\, CNMS\, Deutschhausstraße 12
URL:https://www.uni-marburg.de/de/cnms/altorientalistik/aktuelles/veransta
 ltungen/gastvortrag-von-jacob-dahl-in-the-fields-of-susa
END:VEVENT
BEGIN:VTIMEZONE
TZID:Europe/Berlin
X-LIC-LOCATION:Europe/Berlin
BEGIN:DAYLIGHT
DTSTART:20260329T030000
TZNAME:CEST
TZOFFSETFROM:+0100
TZOFFSETTO:+0200
END:DAYLIGHT
END:VTIMEZONE
END:VCALENDAR
