BEGIN:VCALENDAR
VERSION:2.0
PRODID:-//Plone.org//NONSGML plone.app.event//EN
X-WR-TIMEZONE:Europe/Berlin
BEGIN:VEVENT
SUMMARY:Öffentlicher Abendvortrag von Mirko Novák 'Kizzuwatna\, Hiyawa\,
  Kilikien'
DTSTART;TZID=Europe/Berlin:20260522T190000
DTEND;TZID=Europe/Berlin:20260522T210000
DTSTAMP:20260425T054509Z
UID:81b321db591f457ebe57d31238b3cac5@www.uni-marburg.de
ATTENDEE;CN="Prof. Dr. Mirko Novák (Universität Bern)";ROLE=REQ-PARTICIP
 ANT:Prof. Dr. Mirko Novák (Universität Bern)
CATEGORIES:()
CREATED:20260415T133459Z
DESCRIPTION:https://www.uni-marburg.de/de/cnms/altorientalistik/aktuelles/
 veranstaltungen/oeffentlicher-abendvortrag-von-mirko-novak-kizzuwatna-hiya
 wa-kilikien\n
LAST-MODIFIED:20260415T134204Z
LOCATION:Hörsaal 00A26\, CNMS\, Deutschhausstraße 12
URL:https://www.uni-marburg.de/de/cnms/altorientalistik/aktuelles/veransta
 ltungen/oeffentlicher-abendvortrag-von-mirko-novak-kizzuwatna-hiyawa-kilik
 ien
END:VEVENT
BEGIN:VTIMEZONE
TZID:Europe/Berlin
X-LIC-LOCATION:Europe/Berlin
BEGIN:DAYLIGHT
DTSTART:20260329T030000
TZNAME:CEST
TZOFFSETFROM:+0100
TZOFFSETTO:+0200
END:DAYLIGHT
END:VTIMEZONE
END:VCALENDAR
