BEGIN:VCALENDAR
VERSION:2.0
PRODID:-//Plone.org//NONSGML plone.app.event//EN
X-WR-TIMEZONE:Europe/Berlin
BEGIN:VEVENT
SUMMARY:Arbeitstreffen Transottomanica
DTSTART;TZID=Europe/Berlin:20191129T110000
DTEND;TZID=Europe/Berlin:20191130T180000
DTSTAMP:20260420T134920Z
UID:86548ee713d34b459d699093b560c0f8@www.uni-marburg.de
CREATED:20191127T135142Z
DESCRIPTION:https://www.uni-marburg.de/de/cnms/iranistik/aktuelles/termine
 /arbeitstreffen-transottomanica\n
LAST-MODIFIED:20191127T135157Z
LOCATION:CNMS\, Deutschhausstraße 12\, Raum 00A03
URL:https://www.uni-marburg.de/de/cnms/iranistik/aktuelles/termine/arbeits
 treffen-transottomanica
END:VEVENT
BEGIN:VTIMEZONE
TZID:Europe/Berlin
X-LIC-LOCATION:Europe/Berlin
BEGIN:STANDARD
DTSTART:20191027T020000
TZNAME:CET
TZOFFSETFROM:+0200
TZOFFSETTO:+0100
END:STANDARD
END:VTIMEZONE
END:VCALENDAR
