BEGIN:VCALENDAR
VERSION:2.0
PRODID:-//Plone.org//NONSGML plone.app.event//EN
X-WR-TIMEZONE:Europe/Berlin
BEGIN:VEVENT
SUMMARY:Exkursion ins Hessische Staatsarchiv
DTSTART;TZID=Europe/Berlin:20221219T120000
DTEND;TZID=Europe/Berlin:20221219T140000
DTSTAMP:20260421T231716Z
UID:e5a582fd4b844bb1b6690481d321ab40@www.uni-marburg.de
CREATED:20221107T091745Z
DESCRIPTION:https://www.uni-marburg.de/de/cnms/iranistik/aktuelles/termine
 /ausflug-ins-hessische-staatsarchiv\n
LAST-MODIFIED:20221108T144103Z
LOCATION:Hessisches Staatsarchiv\, Friedrichspl. 15\, 35037 Marburg
URL:https://www.uni-marburg.de/de/cnms/iranistik/aktuelles/termine/ausflug
 -ins-hessische-staatsarchiv
END:VEVENT
BEGIN:VTIMEZONE
TZID:Europe/Berlin
X-LIC-LOCATION:Europe/Berlin
BEGIN:STANDARD
DTSTART:20221030T020000
TZNAME:CET
TZOFFSETFROM:+0200
TZOFFSETTO:+0100
END:STANDARD
END:VTIMEZONE
END:VCALENDAR
