BEGIN:VCALENDAR
VERSION:2.0
PRODID:-//Plone.org//NONSGML plone.app.event//EN
X-WR-TIMEZONE:Europe/Berlin
BEGIN:VEVENT
SUMMARY:Der Fall Mahsa Amini und die Folgen\, Vortrag von Dr. Walter Posch
DTSTART;TZID=Europe/Berlin:20221215T181500
DTEND;TZID=Europe/Berlin:20221215T194500
DTSTAMP:20260421T165403Z
UID:e42e59f076174b6c8329925966af58c6@www.uni-marburg.de
ATTENDEE;CN="Dr. Walter Posch, Nahostexperte an der Landesverteidigungsaka
 demie des Österreichischen Bundesheers, Wien";ROLE=REQ-PARTICIPANT:Dr. Wa
 lter Posch, Nahostexperte an der Landesverteidigungsakademie des Österrei
 chischen Bundesheers, Wien
CREATED:20221103T140058Z
DESCRIPTION:https://www.uni-marburg.de/de/cnms/iranistik/aktuelles/termine
 /der-fall-mahsa-amini-und-die-folgen\n
LAST-MODIFIED:20221108T145715Z
LOCATION:Deutschhausstr. 12\, R. 00A26 (Hörsaal)
URL:https://www.uni-marburg.de/de/cnms/iranistik/aktuelles/termine/der-fal
 l-mahsa-amini-und-die-folgen
END:VEVENT
BEGIN:VTIMEZONE
TZID:Europe/Berlin
X-LIC-LOCATION:Europe/Berlin
BEGIN:STANDARD
DTSTART:20221030T020000
TZNAME:CET
TZOFFSETFROM:+0200
TZOFFSETTO:+0100
END:STANDARD
END:VTIMEZONE
END:VCALENDAR
