BEGIN:VCALENDAR
VERSION:2.0
PRODID:-//Plone.org//NONSGML plone.app.event//EN
X-WR-TIMEZONE:Europe/Berlin
BEGIN:VEVENT
SUMMARY:Derwisch und Licht-Mensch: moderne Perspektiven auf den Sufismus i
 m vorrevolutionären Iran
DTSTART;TZID=Europe/Berlin:20230627T183000
DTEND;TZID=Europe/Berlin:20230627T193000
DTSTAMP:20260425T061300Z
UID:343556590ee14cb886c84a997c2d809c@www.uni-marburg.de
ATTENDEE;CN="Prof. Dr. Bianca Devos (Iranistik, Marburg)";ROLE=REQ-PARTICI
 PANT:Prof. Dr. Bianca Devos (Iranistik, Marburg)
CREATED:20230613T144617Z
DESCRIPTION:https://www.uni-marburg.de/de/cnms/iranistik/aktuelles/termine
 /derwisch-und-licht-mensch-moderne-perspektiven-auf-den-sufismus-im-vorrev
 olutionaeren-iran\nVortrag und Diskussion
LAST-MODIFIED:20230615T193315Z
LOCATION:Lahntor 3\, Alte Universität\, Hörsaal 01 006
URL:https://www.uni-marburg.de/de/cnms/iranistik/aktuelles/termine/derwisc
 h-und-licht-mensch-moderne-perspektiven-auf-den-sufismus-im-vorrevolutiona
 eren-iran
END:VEVENT
BEGIN:VTIMEZONE
TZID:Europe/Berlin
X-LIC-LOCATION:Europe/Berlin
BEGIN:DAYLIGHT
DTSTART:20230326T030000
TZNAME:CEST
TZOFFSETFROM:+0100
TZOFFSETTO:+0200
END:DAYLIGHT
END:VTIMEZONE
END:VCALENDAR
