BEGIN:VCALENDAR
VERSION:2.0
PRODID:-//Plone.org//NONSGML plone.app.event//EN
X-WR-TIMEZONE:Europe/Berlin
BEGIN:VEVENT
SUMMARY:Doktoranden- und Forschungskolloquium
DTSTART;TZID=Europe/Berlin:20221216T101500
DTEND;TZID=Europe/Berlin:20221216T130000
DTSTAMP:20260425T014959Z
UID:871580432aba45189d1a5c60fa2369b5@www.uni-marburg.de
CREATED:20221026T142045Z
DESCRIPTION:https://www.uni-marburg.de/de/cnms/iranistik/aktuelles/termine
 /doktoranden-und-forschungskolloquium\n
LAST-MODIFIED:20221027T050102Z
LOCATION:CNMS - Raum 00A03
URL:https://www.uni-marburg.de/de/cnms/iranistik/aktuelles/termine/doktora
 nden-und-forschungskolloquium
END:VEVENT
BEGIN:VTIMEZONE
TZID:Europe/Berlin
X-LIC-LOCATION:Europe/Berlin
BEGIN:STANDARD
DTSTART:20221030T020000
TZNAME:CET
TZOFFSETFROM:+0200
TZOFFSETTO:+0100
END:STANDARD
END:VTIMEZONE
END:VCALENDAR
