BEGIN:VCALENDAR
VERSION:2.0
PRODID:-//Plone.org//NONSGML plone.app.event//EN
X-WR-TIMEZONE:Europe/Berlin
BEGIN:VEVENT
SUMMARY:Akademisches Musikvermittlungsprojekt: “Encounters with Qamar”
  - Lecture by Elshan Ghasimi-Schindele (Berlin)
DTSTART;TZID=Europe/Berlin:20230629T180000
DTEND;TZID=Europe/Berlin:20230629T200000
DTSTAMP:20260423T135521Z
UID:de6b11404365419096bba9d7b29b5ec7@www.uni-marburg.de
ATTENDEE;CN="Elshan Ghasimi ist Meisterin der persischen Langhalslaute ta
 ̄r und der klassischen persischen Kunstmusik, Komponistin, Performance-K
 ünstlerin und Pädagogin";ROLE=REQ-PARTICIPANT:Elshan Ghasimi ist Meister
 in der persischen Langhalslaute tār und der klassischen persischen Kunst
 musik, Komponistin, Performance-Künstlerin und Pädagogin
CREATED:20230413T203654Z
DESCRIPTION:https://www.uni-marburg.de/de/cnms/iranistik/aktuelles/termine
 /encounters-with-qamar201d-vortrag-von-elshan-ghasimi-schindele\n
LAST-MODIFIED:20230505T135012Z
LOCATION:Hörsaal 00A26 (Deutschhausstraße 12\, Institutsgebäude ( F | 1
 4))
URL:https://www.uni-marburg.de/de/cnms/iranistik/aktuelles/termine/encount
 ers-with-qamar201d-vortrag-von-elshan-ghasimi-schindele
END:VEVENT
BEGIN:VTIMEZONE
TZID:Europe/Berlin
X-LIC-LOCATION:Europe/Berlin
BEGIN:DAYLIGHT
DTSTART:20230326T030000
TZNAME:CEST
TZOFFSETFROM:+0100
TZOFFSETTO:+0200
END:DAYLIGHT
END:VTIMEZONE
END:VCALENDAR
