BEGIN:VCALENDAR
VERSION:2.0
PRODID:-//Plone.org//NONSGML plone.app.event//EN
X-WR-TIMEZONE:Europe/Berlin
BEGIN:VEVENT
SUMMARY:Exkursion des Fachgebiets Iranistik nach Weimar
DTSTART;VALUE=DATE:20230511
DTEND;VALUE=DATE:20230513
DTSTAMP:20260424T063332Z
UID:d4964ef5b62941438578bd403e43a167@www.uni-marburg.de
CREATED:20230328T083229Z
DESCRIPTION:https://www.uni-marburg.de/de/cnms/iranistik/aktuelles/termine
 /exkursion-des-fachgebiets-iranistik-nach-weimar\nfür Studierende der Ira
 nistik
LAST-MODIFIED:20230421T163029Z
LOCATION:Weimar
URL:https://www.uni-marburg.de/de/cnms/iranistik/aktuelles/termine/exkursi
 on-des-fachgebiets-iranistik-nach-weimar
END:VEVENT
END:VCALENDAR
