BEGIN:VCALENDAR
VERSION:2.0
PRODID:-//Plone.org//NONSGML plone.app.event//EN
X-WR-TIMEZONE:Europe/Berlin
BEGIN:VEVENT
SUMMARY:Exkursion ins hessische Staatsarchiv
DTSTART;TZID=Europe/Berlin:20241216T123000
DTEND;TZID=Europe/Berlin:20241216T140000
DTSTAMP:20260420T033013Z
UID:bbb2ec9a2fa8453784493eb9423db8fb@www.uni-marburg.de
CREATED:20241203T080806Z
DESCRIPTION:https://www.uni-marburg.de/de/cnms/iranistik/aktuelles/termine
 /exkursion-ins-hessische-staatsarchiv\n
LAST-MODIFIED:20241203T080836Z
LOCATION:Hessisches Staatsarchiv Marburg\,  Friedrichsplatz 15\, 35037 Mar
 burg
URL:https://www.uni-marburg.de/de/cnms/iranistik/aktuelles/termine/exkursi
 on-ins-hessische-staatsarchiv
END:VEVENT
BEGIN:VTIMEZONE
TZID:Europe/Berlin
X-LIC-LOCATION:Europe/Berlin
BEGIN:STANDARD
DTSTART:20241027T020000
TZNAME:CET
TZOFFSETFROM:+0200
TZOFFSETTO:+0100
END:STANDARD
END:VTIMEZONE
END:VCALENDAR
