BEGIN:VCALENDAR
VERSION:2.0
PRODID:-//Plone.org//NONSGML plone.app.event//EN
X-WR-TIMEZONE:Europe/Berlin
BEGIN:VEVENT
SUMMARY:Exkursion nach Frankfurt
DTSTART;TZID=Europe/Berlin:20200128T103500
DTEND;TZID=Europe/Berlin:20200128T160000
DTSTAMP:20260419T211502Z
UID:fbbeb732b1ad48e3b9f0669f118647fb@www.uni-marburg.de
CREATED:20200119T092932Z
DESCRIPTION:https://www.uni-marburg.de/de/cnms/iranistik/aktuelles/termine
 /exkursion-nach-frankfurt\nBesuch der Ausstellung „WELTENBEWEGEND. Migra
 tion macht Geschichten“ im Weltkulturen Museum Frankfurt
LAST-MODIFIED:20200119T093125Z
LOCATION:Frankfurt
URL:https://www.uni-marburg.de/de/cnms/iranistik/aktuelles/termine/exkursi
 on-nach-frankfurt
END:VEVENT
BEGIN:VTIMEZONE
TZID:Europe/Berlin
X-LIC-LOCATION:Europe/Berlin
BEGIN:STANDARD
DTSTART:20191027T020000
TZNAME:CET
TZOFFSETFROM:+0200
TZOFFSETTO:+0100
END:STANDARD
END:VTIMEZONE
END:VCALENDAR
