BEGIN:VCALENDAR
VERSION:2.0
PRODID:-//Plone.org//NONSGML plone.app.event//EN
X-WR-TIMEZONE:Europe/Berlin
BEGIN:VEVENT
SUMMARY:Filmabend Iranistik
DTSTART;TZID=Europe/Berlin:20230110T180000
DTEND;TZID=Europe/Berlin:20230110T200000
DTSTAMP:20260421T015727Z
UID:0c0b948f9d184a08a1a785ab11d90ac6@www.uni-marburg.de
CREATED:20230109T092514Z
DESCRIPTION:https://www.uni-marburg.de/de/cnms/iranistik/aktuelles/termine
 /filmabend-iranistik\nIm Rahmen des Seminars "Protest und Partizipation: F
 rauen in Iran" zeigen wir einen Dokumentarfilm aus dem Jahr 2015 über ein
 e iranische Musikerin (OmU).
LAST-MODIFIED:20230109T111134Z
LOCATION:CNMS Hörsaal\, Deutschhausstr. 12
URL:https://www.uni-marburg.de/de/cnms/iranistik/aktuelles/termine/filmabe
 nd-iranistik
END:VEVENT
BEGIN:VTIMEZONE
TZID:Europe/Berlin
X-LIC-LOCATION:Europe/Berlin
BEGIN:STANDARD
DTSTART:20221030T020000
TZNAME:CET
TZOFFSETFROM:+0200
TZOFFSETTO:+0100
END:STANDARD
END:VTIMEZONE
END:VCALENDAR
