BEGIN:VCALENDAR
VERSION:2.0
PRODID:-//Plone.org//NONSGML plone.app.event//EN
X-WR-TIMEZONE:Europe/Berlin
BEGIN:VEVENT
SUMMARY:Forschungskolloquium der Iranistik
DTSTART;TZID=Europe/Berlin:20260123T080000
DTEND;TZID=Europe/Berlin:20260123T140000
DTSTAMP:20260421T184029Z
UID:302a7b1241744557be28f3207fee6129@www.uni-marburg.de
CATEGORIES:()
CREATED:20251117T092049Z
DESCRIPTION:https://www.uni-marburg.de/de/cnms/iranistik/aktuelles/termine
 /forschungskolloquium-der-iranistik-1\nPromovierende und PostDocs der Iran
 istik stellen ihre Projekte vor
LAST-MODIFIED:20251212T145138Z
LOCATION:CNMS\, Raum 00A09
URL:https://www.uni-marburg.de/de/cnms/iranistik/aktuelles/termine/forschu
 ngskolloquium-der-iranistik-1
END:VEVENT
BEGIN:VTIMEZONE
TZID:Europe/Berlin
X-LIC-LOCATION:Europe/Berlin
BEGIN:STANDARD
DTSTART:20251026T020000
TZNAME:CET
TZOFFSETFROM:+0200
TZOFFSETTO:+0100
END:STANDARD
END:VTIMEZONE
END:VCALENDAR
