BEGIN:VCALENDAR
VERSION:2.0
PRODID:-//Plone.org//NONSGML plone.app.event//EN
X-WR-TIMEZONE:Europe/Berlin
BEGIN:VEVENT
SUMMARY:Gap-o Goft – für aktives Persisch-Sprechen am CNMS
DTSTART;TZID=Europe/Berlin:20230509T181500
DTEND;TZID=Europe/Berlin:20230509T194500
DTSTAMP:20260424T220254Z
UID:c86fa8e9df1d4b9d8e6bdddeef9094b5@www.uni-marburg.de
CREATED:20230421T163828Z
DESCRIPTION:https://www.uni-marburg.de/de/cnms/iranistik/aktuelles/termine
 /gap-o-goft-fuer-aktives-persisch-sprechen-am-cnms\nThema: چرا فارس
 ی شکر است؟
LAST-MODIFIED:20230421T163914Z
LOCATION:Casino\, CNMS
URL:https://www.uni-marburg.de/de/cnms/iranistik/aktuelles/termine/gap-o-g
 oft-fuer-aktives-persisch-sprechen-am-cnms
END:VEVENT
BEGIN:VTIMEZONE
TZID:Europe/Berlin
X-LIC-LOCATION:Europe/Berlin
BEGIN:DAYLIGHT
DTSTART:20230326T030000
TZNAME:CEST
TZOFFSETFROM:+0100
TZOFFSETTO:+0200
END:DAYLIGHT
END:VTIMEZONE
END:VCALENDAR
