BEGIN:VCALENDAR
VERSION:2.0
PRODID:-//Plone.org//NONSGML plone.app.event//EN
X-WR-TIMEZONE:Europe/Berlin
BEGIN:VEVENT
SUMMARY:"Higher education and cultural politics in Afghanistan: achievemen
 ts and challenges"\, Vortrag und Diskussion mit Prof. Dr. M. Osman Babury
DTSTART;TZID=Europe/Berlin:20220630T121500
DTEND;TZID=Europe/Berlin:20220630T134500
DTSTAMP:20260425T220437Z
UID:cd5007ffa37548fb881a87d2a2fe6766@www.uni-marburg.de
CREATED:20220610T090916Z
DESCRIPTION:https://www.uni-marburg.de/de/cnms/iranistik/aktuelles/termine
 /higher-education-and-cultural-politics-in-afghanistan-achievements-and-ch
 allenges-vortrag-und-diskussion-mit-prof-dr-m-osman-babury\nVeranstaltung 
 im Themenschwerpunkt Afghanistan im Sommersemester 2022
LAST-MODIFIED:20220610T090943Z
LOCATION:Raum 01A03 (CNMS\, Deutschhausstr. 12)
URL:https://www.uni-marburg.de/de/cnms/iranistik/aktuelles/termine/higher-
 education-and-cultural-politics-in-afghanistan-achievements-and-challenges
 -vortrag-und-diskussion-mit-prof-dr-m-osman-babury
END:VEVENT
BEGIN:VTIMEZONE
TZID:Europe/Berlin
X-LIC-LOCATION:Europe/Berlin
BEGIN:DAYLIGHT
DTSTART:20220327T030000
TZNAME:CEST
TZOFFSETFROM:+0100
TZOFFSETTO:+0200
END:DAYLIGHT
END:VTIMEZONE
END:VCALENDAR
