BEGIN:VCALENDAR
VERSION:2.0
PRODID:-//Plone.org//NONSGML plone.app.event//EN
X-WR-TIMEZONE:Europe/Berlin
BEGIN:VEVENT
SUMMARY:International Workshop "The Cultural History of Late Pahlavi Iran"
DTSTART;VALUE=DATE:20241127
DTEND;VALUE=DATE:20241130
DTSTAMP:20260425T002121Z
UID:f0f2015c3b2649deb26fbeec202b75a3@www.uni-marburg.de
CREATED:20241013T170931Z
DESCRIPTION:https://www.uni-marburg.de/de/cnms/iranistik/aktuelles/termine
 /international-workshop-the-cultural-history-of-late-pahlavi-iran\n
LAST-MODIFIED:20241113T154521Z
LOCATION:CNMS\, Universität Marburg\, Deutschhausstr. 12
URL:https://www.uni-marburg.de/de/cnms/iranistik/aktuelles/termine/interna
 tional-workshop-the-cultural-history-of-late-pahlavi-iran
END:VEVENT
END:VCALENDAR
