BEGIN:VCALENDAR
VERSION:2.0
PRODID:-//Plone.org//NONSGML plone.app.event//EN
X-WR-TIMEZONE:Europe/Berlin
BEGIN:VEVENT
SUMMARY:"Jüdisches Zentralasien. Die Bucharischen Juden im 19. und 20. Ja
 hrhundert"\, Vortrag von Dr. Thomas Loy (Prag)
DTSTART;TZID=Europe/Berlin:20240111T181500
DTEND;TZID=Europe/Berlin:20240111T194500
DTSTAMP:20260425T002823Z
UID:53cd5344bc2947d195181b91378b147a@www.uni-marburg.de
ATTENDEE;CN="Dr. Thomas Loy, Akademie der Wissenschaften der Tschechischen
  Republik, Prag";ROLE=REQ-PARTICIPANT:Dr. Thomas Loy, Akademie der Wissens
 chaften der Tschechischen Republik, Prag
CREATED:20231208T105619Z
DESCRIPTION:https://www.uni-marburg.de/de/cnms/iranistik/aktuelles/termine
 /juedisches-zentralasien-die-bucharischen-juden-im-19-und-20-jahrhundert\n
LAST-MODIFIED:20231214T113857Z
LOCATION:Deutschhausstr. 12\, Hörsaal (R. Nr. 00A26)
URL:https://www.uni-marburg.de/de/cnms/iranistik/aktuelles/termine/juedisc
 hes-zentralasien-die-bucharischen-juden-im-19-und-20-jahrhundert
END:VEVENT
BEGIN:VTIMEZONE
TZID:Europe/Berlin
X-LIC-LOCATION:Europe/Berlin
BEGIN:STANDARD
DTSTART:20231029T020000
TZNAME:CET
TZOFFSETFROM:+0200
TZOFFSETTO:+0100
END:STANDARD
END:VTIMEZONE
END:VCALENDAR
