BEGIN:VCALENDAR
VERSION:2.0
PRODID:-//Plone.org//NONSGML plone.app.event//EN
X-WR-TIMEZONE:Europe/Berlin
BEGIN:VEVENT
SUMMARY:Lese-/Projektwoche am FB 10
DTSTART;VALUE=DATE:20221121
DTEND;VALUE=DATE:20221126
DTSTAMP:20260420T121559Z
UID:8a726d952f624075a2feec2eecee8940@www.uni-marburg.de
CREATED:20221016T191828Z
DESCRIPTION:https://www.uni-marburg.de/de/cnms/iranistik/aktuelles/termine
 /lese-projektwoche-am-fb-10\n
LAST-MODIFIED:20221016T191853Z
LOCATION:https://www.uni-marburg.de/de/fb10/studium/projektwoche
URL:https://www.uni-marburg.de/de/cnms/iranistik/aktuelles/termine/lese-pr
 ojektwoche-am-fb-10
END:VEVENT
END:VCALENDAR
