BEGIN:VCALENDAR
VERSION:2.0
PRODID:-//Plone.org//NONSGML plone.app.event//EN
X-WR-TIMEZONE:Europe/Berlin
BEGIN:VEVENT
SUMMARY:Lesung und Diskussionsrunde mit dem Autor Mahmoud Hosseini Zad
DTSTART;TZID=Europe/Berlin:20250129T160000
DTEND;TZID=Europe/Berlin:20250129T180000
DTSTAMP:20260424T044505Z
UID:19e0956570534befa0f33f9f377a8bf2@www.uni-marburg.de
CREATED:20241230T135710Z
DESCRIPTION:https://www.uni-marburg.de/de/cnms/iranistik/aktuelles/termine
 /lesung-und-diskussionsrunde-mit-dem-autor-mahmoud-hosseini-zad\n
LAST-MODIFIED:20241230T135902Z
LOCATION:CNMS\, Deutschhausstr. 12\, Hörsaal 00A26
URL:https://www.uni-marburg.de/de/cnms/iranistik/aktuelles/termine/lesung-
 und-diskussionsrunde-mit-dem-autor-mahmoud-hosseini-zad
END:VEVENT
BEGIN:VTIMEZONE
TZID:Europe/Berlin
X-LIC-LOCATION:Europe/Berlin
BEGIN:STANDARD
DTSTART:20241027T020000
TZNAME:CET
TZOFFSETFROM:+0200
TZOFFSETTO:+0100
END:STANDARD
END:VTIMEZONE
END:VCALENDAR
