BEGIN:VCALENDAR
VERSION:2.0
PRODID:-//Plone.org//NONSGML plone.app.event//EN
X-WR-TIMEZONE:Europe/Berlin
BEGIN:VEVENT
SUMMARY:Master Iranistik - jetzt bewerben!
DTSTART;VALUE=DATE:20230222
DTEND;VALUE=DATE:20230223
DTSTAMP:20260422T075120Z
UID:62102132fe9549a5bc1a363a0c3e7743@www.uni-marburg.de
CREATED:20220704T200352Z
DESCRIPTION:https://www.uni-marburg.de/de/cnms/iranistik/aktuelles/termine
 /master-iranistik-jetzt-bewerben\nDie Bewerbungsfrist für das Sommersemes
 ter 23 endet am 22. Februar 2023.
LAST-MODIFIED:20230111T212103Z
LOCATION:https://www.uni-marburg.de/de/cnms/studium/ma/ma-iranistik
URL:https://www.uni-marburg.de/de/cnms/iranistik/aktuelles/termine/master-
 iranistik-jetzt-bewerben
END:VEVENT
END:VCALENDAR
