BEGIN:VCALENDAR
VERSION:2.0
PRODID:-//Plone.org//NONSGML plone.app.event//EN
X-WR-TIMEZONE:Europe/Berlin
BEGIN:VEVENT
SUMMARY:Öffentliche Präsentation der Exkursion nach Tadschikistan und Us
 bekistan
DTSTART;TZID=Europe/Berlin:20240709T181500
DTEND;TZID=Europe/Berlin:20240709T194500
DTSTAMP:20260425T115047Z
UID:5b33e1454ce0462a821a55ec2da475c7@www.uni-marburg.de
CREATED:20240618T132306Z
DESCRIPTION:https://www.uni-marburg.de/de/cnms/iranistik/aktuelles/termine
 /oeffentliche-bilderpraesentation-der-praesentation-nach-tadschikistan-und
 -usbekistan\n
LAST-MODIFIED:20240618T132448Z
LOCATION:CNMS\, Deutschhausstraße 12\, Hörsaal 00A26
URL:https://www.uni-marburg.de/de/cnms/iranistik/aktuelles/termine/oeffent
 liche-bilderpraesentation-der-praesentation-nach-tadschikistan-und-usbekis
 tan
END:VEVENT
BEGIN:VTIMEZONE
TZID:Europe/Berlin
X-LIC-LOCATION:Europe/Berlin
BEGIN:DAYLIGHT
DTSTART:20240331T030000
TZNAME:CEST
TZOFFSETFROM:+0100
TZOFFSETTO:+0200
END:DAYLIGHT
END:VTIMEZONE
END:VCALENDAR
