BEGIN:VCALENDAR
VERSION:2.0
PRODID:-//Plone.org//NONSGML plone.app.event//EN
X-WR-TIMEZONE:Europe/Berlin
BEGIN:VEVENT
SUMMARY:Reiseberichte Tadschikistan
DTSTART;TZID=Europe/Berlin:20231206T191500
DTEND;TZID=Europe/Berlin:20231206T204500
DTSTAMP:20260420T210131Z
UID:c5ae22c16fa545e19085e8174e9e3478@www.uni-marburg.de
ATTENDEE;CN="Elena Preussler";ROLE=REQ-PARTICIPANT:Elena Preussler
CREATED:20231128T134651Z
DESCRIPTION:https://www.uni-marburg.de/de/cnms/iranistik/aktuelles/termine
 /reiseberichte-tadschikistan\n
LAST-MODIFIED:20231128T134717Z
LOCATION:Deutschhausstr. 12\, Raum 01A03
URL:https://www.uni-marburg.de/de/cnms/iranistik/aktuelles/termine/reisebe
 richte-tadschikistan
END:VEVENT
BEGIN:VTIMEZONE
TZID:Europe/Berlin
X-LIC-LOCATION:Europe/Berlin
BEGIN:STANDARD
DTSTART:20231029T020000
TZNAME:CET
TZOFFSETFROM:+0200
TZOFFSETTO:+0100
END:STANDARD
END:VTIMEZONE
END:VCALENDAR
