BEGIN:VCALENDAR
VERSION:2.0
PRODID:-//Plone.org//NONSGML plone.app.event//EN
X-WR-TIMEZONE:Europe/Berlin
BEGIN:VEVENT
SUMMARY:Semester-Eröffnung der Iranistik
DTSTART;TZID=Europe/Berlin:20260421T110000
DTEND;TZID=Europe/Berlin:20260421T120000
DTSTAMP:20260421T172355Z
UID:43a96aac4ffb4cc38fdfbefc532b905d@www.uni-marburg.de
CATEGORIES:()
CREATED:20260325T121307Z
DESCRIPTION:https://www.uni-marburg.de/de/cnms/iranistik/aktuelles/termine
 /semester-eroeffnung-iranistik\n
LAST-MODIFIED:20260331T103956Z
LOCATION:Raum 02A05 (CNMS)\, Deutschhausstraße 12
URL:https://www.uni-marburg.de/de/cnms/iranistik/aktuelles/termine/semeste
 r-eroeffnung-iranistik
END:VEVENT
BEGIN:VTIMEZONE
TZID:Europe/Berlin
X-LIC-LOCATION:Europe/Berlin
BEGIN:DAYLIGHT
DTSTART:20260329T030000
TZNAME:CEST
TZOFFSETFROM:+0100
TZOFFSETTO:+0200
END:DAYLIGHT
END:VTIMEZONE
END:VCALENDAR
