BEGIN:VCALENDAR
VERSION:2.0
PRODID:-//Plone.org//NONSGML plone.app.event//EN
X-WR-TIMEZONE:Europe/Berlin
BEGIN:VEVENT
SUMMARY:Semestereröffnung der Iranistik
DTSTART;TZID=Europe/Berlin:20230418T101500
DTEND;TZID=Europe/Berlin:20230418T114500
DTSTAMP:20260421T144003Z
UID:1b1224eef6b14a8a83b394eee694a824@www.uni-marburg.de
CREATED:20230120T081338Z
DESCRIPTION:https://www.uni-marburg.de/de/cnms/iranistik/aktuelles/termine
 /semestereroeffnung-der-iranistik-1\nWir stellen unsere Lehrveranstaltunge
 n und das Programm für das Sommersemester 2023 vor. Alle Interessierten s
 ind herzlich eingeladen!
LAST-MODIFIED:20230120T081515Z
LOCATION:Casino\, CNMS
URL:https://www.uni-marburg.de/de/cnms/iranistik/aktuelles/termine/semeste
 reroeffnung-der-iranistik-1
END:VEVENT
BEGIN:VTIMEZONE
TZID:Europe/Berlin
X-LIC-LOCATION:Europe/Berlin
BEGIN:DAYLIGHT
DTSTART:20230326T030000
TZNAME:CEST
TZOFFSETFROM:+0100
TZOFFSETTO:+0200
END:DAYLIGHT
END:VTIMEZONE
END:VCALENDAR
