BEGIN:VCALENDAR
VERSION:2.0
PRODID:-//Plone.org//NONSGML plone.app.event//EN
X-WR-TIMEZONE:Europe/Berlin
BEGIN:VEVENT
SUMMARY:Semestereröffnung der Iranistik
DTSTART;TZID=Europe/Berlin:20231019T101500
DTEND;TZID=Europe/Berlin:20231019T113000
DTSTAMP:20260422T025356Z
UID:993a4fe3783a4e9780bd2ec4368aab71@www.uni-marburg.de
CREATED:20230718T075842Z
DESCRIPTION:https://www.uni-marburg.de/de/cnms/iranistik/aktuelles/termine
 /semestereroeffnung-der-iranistik-2\nWintersemester 2023/24
LAST-MODIFIED:20230902T062252Z
LOCATION:CNMS Casino
URL:https://www.uni-marburg.de/de/cnms/iranistik/aktuelles/termine/semeste
 reroeffnung-der-iranistik-2
END:VEVENT
BEGIN:VTIMEZONE
TZID:Europe/Berlin
X-LIC-LOCATION:Europe/Berlin
BEGIN:DAYLIGHT
DTSTART:20230326T030000
TZNAME:CEST
TZOFFSETFROM:+0100
TZOFFSETTO:+0200
END:DAYLIGHT
END:VTIMEZONE
END:VCALENDAR
