BEGIN:VCALENDAR
VERSION:2.0
PRODID:-//Plone.org//NONSGML plone.app.event//EN
X-WR-TIMEZONE:Europe/Berlin
BEGIN:VEVENT
SUMMARY:Semestereröffnung der Iranistik
DTSTART;TZID=Europe/Berlin:20250422T180000
DTEND;TZID=Europe/Berlin:20250422T190000
DTSTAMP:20260421T081352Z
UID:92fad705c8164e68b583f4eb648d559c@www.uni-marburg.de
CREATED:20250324T094237Z
DESCRIPTION:https://www.uni-marburg.de/de/cnms/iranistik/aktuelles/termine
 /semestereroeffnung-der-iranistik-4\n
LAST-MODIFIED:20250324T094330Z
LOCATION:Casino CNMS
URL:https://www.uni-marburg.de/de/cnms/iranistik/aktuelles/termine/semeste
 reroeffnung-der-iranistik-4
END:VEVENT
BEGIN:VTIMEZONE
TZID:Europe/Berlin
X-LIC-LOCATION:Europe/Berlin
BEGIN:DAYLIGHT
DTSTART:20250330T030000
TZNAME:CEST
TZOFFSETFROM:+0100
TZOFFSETTO:+0200
END:DAYLIGHT
END:VTIMEZONE
END:VCALENDAR
