BEGIN:VCALENDAR
VERSION:2.0
PRODID:-//Plone.org//NONSGML plone.app.event//EN
X-WR-TIMEZONE:Europe/Berlin
BEGIN:VEVENT
SUMMARY:Semestereröffnung der Iranistik
DTSTART;TZID=Europe/Berlin:20251016T121500
DTEND;TZID=Europe/Berlin:20251016T133000
DTSTAMP:20260421T084656Z
UID:d7a436a5b66c4c0c9bb23e49c3cf55c8@www.uni-marburg.de
CATEGORIES:()
CREATED:20250921T081401Z
DESCRIPTION:https://www.uni-marburg.de/de/cnms/iranistik/aktuelles/termine
 /semestereroeffnung-der-iranistik-5\n
LAST-MODIFIED:20250921T082106Z
LOCATION:Casino\, CNMS
URL:https://www.uni-marburg.de/de/cnms/iranistik/aktuelles/termine/semeste
 reroeffnung-der-iranistik-5
END:VEVENT
BEGIN:VTIMEZONE
TZID:Europe/Berlin
X-LIC-LOCATION:Europe/Berlin
BEGIN:DAYLIGHT
DTSTART:20250330T030000
TZNAME:CEST
TZOFFSETFROM:+0100
TZOFFSETTO:+0200
END:DAYLIGHT
END:VTIMEZONE
END:VCALENDAR
