BEGIN:VCALENDAR
VERSION:2.0
PRODID:-//Plone.org//NONSGML plone.app.event//EN
X-WR-TIMEZONE:Europe/Berlin
BEGIN:VEVENT
SUMMARY:Tutorium "Wissenschaftliches Arbeiten für internationale MA-Studi
 erende"
DTSTART;TZID=Europe/Berlin:20240131T161500
DTEND;TZID=Europe/Berlin:20240131T194500
DTSTAMP:20260425T050800Z
UID:95b6e346c4e1462298305527e27b6339@www.uni-marburg.de
CREATED:20240116T092828Z
DESCRIPTION:https://www.uni-marburg.de/de/cnms/iranistik/aktuelles/termine
 /sondertutorium-wissenschaftliches-arbeiten-fuer-internationale-ma-studier
 ende\nTutorium "Wissenschaftliches Arbeiten für internationale MA-Studier
 ende" in vier Blocksitzungen.
LAST-MODIFIED:20240125T140133Z
LOCATION:CNMS\, Deutschhausstraße 12\, Raum: 01A24
URL:https://www.uni-marburg.de/de/cnms/iranistik/aktuelles/termine/sondert
 utorium-wissenschaftliches-arbeiten-fuer-internationale-ma-studierende
END:VEVENT
BEGIN:VTIMEZONE
TZID:Europe/Berlin
X-LIC-LOCATION:Europe/Berlin
BEGIN:STANDARD
DTSTART:20231029T020000
TZNAME:CET
TZOFFSETFROM:+0200
TZOFFSETTO:+0100
END:STANDARD
END:VTIMEZONE
END:VCALENDAR
