BEGIN:VCALENDAR
VERSION:2.0
PRODID:-//Plone.org//NONSGML plone.app.event//EN
X-WR-TIMEZONE:Europe/Berlin
BEGIN:VEVENT
SUMMARY:Aufführung: Persisches Theaterstück (mit deutschen Untertiteln)
DTSTART;TZID=Europe/Berlin:20230711T181500
DTSTAMP:20260424T072643Z
UID:1e5e67035a1f4bf8b1a536b15360e892@www.uni-marburg.de
CREATED:20230608T093112Z
DESCRIPTION:https://www.uni-marburg.de/de/cnms/iranistik/aktuelles/termine
 /theaterauffuehrung-iranistik\n100 Jahre nach der Uraufführung spielen St
 udierende der Iranistik das Stück "Ḥalvāʾ al-Foqarāʾ" von Mirzādeh
  Ešqī
LAST-MODIFIED:20230706T093704Z
LOCATION:CNMS Hörsaal 00A26
URL:https://www.uni-marburg.de/de/cnms/iranistik/aktuelles/termine/theater
 auffuehrung-iranistik
END:VEVENT
BEGIN:VTIMEZONE
TZID:Europe/Berlin
X-LIC-LOCATION:Europe/Berlin
BEGIN:DAYLIGHT
DTSTART:20230326T030000
TZNAME:CEST
TZOFFSETFROM:+0100
TZOFFSETTO:+0200
END:DAYLIGHT
END:VTIMEZONE
END:VCALENDAR
