BEGIN:VCALENDAR
VERSION:2.0
PRODID:-//Plone.org//NONSGML plone.app.event//EN
X-WR-TIMEZONE:Europe/Berlin
BEGIN:VEVENT
SUMMARY:Treffen zur Zentralasien-Exkursion der Iranistik
DTSTART;TZID=Europe/Berlin:20240416T161500
DTEND;TZID=Europe/Berlin:20240416T165000
DTSTAMP:20260420T214909Z
UID:cd55cfdd1c104125b758ca502ddae9f0@www.uni-marburg.de
CREATED:20240322T092413Z
DESCRIPTION:https://www.uni-marburg.de/de/cnms/iranistik/aktuelles/termine
 /treffen-zur-exkursionsvorbereitung\nwichtiges Treffen zur Vorbereitung de
 r Reise
LAST-MODIFIED:20240322T124650Z
LOCATION:Deutschhausstr. 12\, Raum 01A09
URL:https://www.uni-marburg.de/de/cnms/iranistik/aktuelles/termine/treffen
 -zur-exkursionsvorbereitung
END:VEVENT
BEGIN:VTIMEZONE
TZID:Europe/Berlin
X-LIC-LOCATION:Europe/Berlin
BEGIN:DAYLIGHT
DTSTART:20240331T030000
TZNAME:CEST
TZOFFSETFROM:+0100
TZOFFSETTO:+0200
END:DAYLIGHT
END:VTIMEZONE
END:VCALENDAR
