BEGIN:VCALENDAR
VERSION:2.0
PRODID:-//Plone.org//NONSGML plone.app.event//EN
X-WR-TIMEZONE:Europe/Berlin
BEGIN:VEVENT
SUMMARY:Vorstellung des FID Nahost
DTSTART;TZID=Europe/Berlin:20241111T121500
DTEND;TZID=Europe/Berlin:20241111T134500
DTSTAMP:20260422T025740Z
UID:c352dd759a594053ae62ea87bbc24458@www.uni-marburg.de
CREATED:20240918T131440Z
DESCRIPTION:https://www.uni-marburg.de/de/cnms/iranistik/aktuelles/termine
 /vorstellung-des-fid-nahost\nInformationsveranstaltung für alle Studieren
 den und Interessierten zu den vielfältigen Services des Fachinformationsd
 ienstes Nahost-\, Nordafrika- und Islamstudien
LAST-MODIFIED:20240918T131501Z
LOCATION:CNMS\, 01A24
URL:https://www.uni-marburg.de/de/cnms/iranistik/aktuelles/termine/vorstel
 lung-des-fid-nahost
END:VEVENT
BEGIN:VTIMEZONE
TZID:Europe/Berlin
X-LIC-LOCATION:Europe/Berlin
BEGIN:STANDARD
DTSTART:20241027T020000
TZNAME:CET
TZOFFSETFROM:+0200
TZOFFSETTO:+0100
END:STANDARD
END:VTIMEZONE
END:VCALENDAR
