BEGIN:VCALENDAR
VERSION:2.0
PRODID:-//Plone.org//NONSGML plone.app.event//EN
X-WR-TIMEZONE:Europe/Berlin
BEGIN:VEVENT
SUMMARY:Vortrag "Auf den Schwingen des Adlers – Die Herrschaft Reza Scha
 hs\, der deutsche Imperialismus und die Anfänge der iranischen Luftfahrt"
 \,
DTSTART;TZID=Europe/Berlin:20220125T181500
DTEND;TZID=Europe/Berlin:20220125T193000
DTSTAMP:20260425T201401Z
UID:1d310a2a9f954941bf991705bb6c73e6@www.uni-marburg.de
ATTENDEE;CN="Dr. Roman Siebertz (Bonn)";ROLE=REQ-PARTICIPANT:Dr. Roman Sie
 bertz (Bonn)
CREATED:20211217T114236Z
DESCRIPTION:https://www.uni-marburg.de/de/cnms/iranistik/aktuelles/termine
 /vortrag-auf-den-schwingen-des-adlers-die-herrschaft-reza-schahs-der-deuts
 che-imperialismus-und-die-anfaenge-der-iranischen-luftfahrt\n
LAST-MODIFIED:20220117T220527Z
LOCATION:https://webconf.hrz.uni-marburg.de/b/bia-rv8-5ln-pq9
URL:https://www.uni-marburg.de/de/cnms/iranistik/aktuelles/termine/vortrag
 -auf-den-schwingen-des-adlers-die-herrschaft-reza-schahs-der-deutsche-impe
 rialismus-und-die-anfaenge-der-iranischen-luftfahrt
END:VEVENT
BEGIN:VTIMEZONE
TZID:Europe/Berlin
X-LIC-LOCATION:Europe/Berlin
BEGIN:STANDARD
DTSTART:20211031T020000
TZNAME:CET
TZOFFSETFROM:+0200
TZOFFSETTO:+0100
END:STANDARD
END:VTIMEZONE
END:VCALENDAR
