BEGIN:VCALENDAR
VERSION:2.0
PRODID:-//Plone.org//NONSGML plone.app.event//EN
X-WR-TIMEZONE:Europe/Berlin
BEGIN:VEVENT
SUMMARY:Abendvortrag: Dr. Pavel Lurje (Paris)\, "Society of the Upper Zara
 fshan Valley in the Light of New Written Texts“
DTSTART;TZID=Europe/Berlin:20250527T181500
DTEND;TZID=Europe/Berlin:20250527T200000
DTSTAMP:20260421T214355Z
UID:064462431fe646ecb0e346d81eeb9f1b@www.uni-marburg.de
ATTENDEE;CN="Dr. Pavel Lurje (Institut d´Etudes Avancées de Paris)";ROLE
 =REQ-PARTICIPANT:Dr. Pavel Lurje (Institut d´Etudes Avancées de Paris)
CREATED:20250521T143123Z
DESCRIPTION:https://www.uni-marburg.de/de/cnms/iranistik/aktuelles/termine
 /vortrag-pavel-lurje\n
LAST-MODIFIED:20250521T144221Z
LOCATION:CNMS\, Deutschhausstr. 12\, Hörsaal 00A26
URL:https://www.uni-marburg.de/de/cnms/iranistik/aktuelles/termine/vortrag
 -pavel-lurje
END:VEVENT
BEGIN:VTIMEZONE
TZID:Europe/Berlin
X-LIC-LOCATION:Europe/Berlin
BEGIN:DAYLIGHT
DTSTART:20250330T030000
TZNAME:CEST
TZOFFSETFROM:+0100
TZOFFSETTO:+0200
END:DAYLIGHT
END:VTIMEZONE
END:VCALENDAR
