BEGIN:VCALENDAR
VERSION:2.0
PRODID:-//Plone.org//NONSGML plone.app.event//EN
X-WR-TIMEZONE:Europe/Berlin
BEGIN:VEVENT
SUMMARY:Vortrag: "Wege ins wissenschaftliche Bibliotheks- und Informations
 wesen und seine Tätigkeitsprofile"
DTSTART;TZID=Europe/Berlin:20201208T181500
DTEND;TZID=Europe/Berlin:20201208T194500
DTSTAMP:20260425T152425Z
UID:f1ed7c4d24a74576bccad4e74a6611a0@www.uni-marburg.de
CREATED:20201123T094327Z
DESCRIPTION:https://www.uni-marburg.de/de/cnms/iranistik/aktuelles/termine
 /vortrag-wege-ins-wissenschaftliche-bibliotheks-und-informationswesen-und-
 seine-taetigkeitsprofile\nReferentin Nina Zolanwar\, Bibliothekarin an der
  Zeppelin Universität\, Friedrichshafen
LAST-MODIFIED:20201123T094928Z
LOCATION:https://webconf.hrz.uni-marburg.de/b/car-pcq-pf9
URL:https://www.uni-marburg.de/de/cnms/iranistik/aktuelles/termine/vortrag
 -wege-ins-wissenschaftliche-bibliotheks-und-informationswesen-und-seine-ta
 etigkeitsprofile
END:VEVENT
BEGIN:VTIMEZONE
TZID:Europe/Berlin
X-LIC-LOCATION:Europe/Berlin
BEGIN:STANDARD
DTSTART:20201025T020000
TZNAME:CET
TZOFFSETFROM:+0200
TZOFFSETTO:+0100
END:STANDARD
END:VTIMEZONE
END:VCALENDAR
