BEGIN:VCALENDAR
VERSION:2.0
PRODID:-//Plone.org//NONSGML plone.app.event//EN
X-WR-TIMEZONE:Europe/Berlin
BEGIN:VEVENT
SUMMARY:Vortrag “Zickzack bedeutet trotzdem vorwärts: Erste Jahre mit e
 inem Iranistik-Abschluss”
DTSTART;TZID=Europe/Berlin:20211130T181500
DTEND;TZID=Europe/Berlin:20211130T194500
DTSTAMP:20260425T224901Z
UID:2ef710393c62464b97d2a46f45697c9b@www.uni-marburg.de
ATTENDEE;CN="Eva Claußnitzer";ROLE=REQ-PARTICIPANT:Eva Claußnitzer
CREATED:20211029T085809Z
DESCRIPTION:https://www.uni-marburg.de/de/cnms/iranistik/aktuelles/termine
 /vortrag-zickzack-bedeutet-trotzdem-vorwaerts-erste-jahre-mit-einem-iranis
 tik-abschluss201d\nBerufsorientierende Ringvorlesung im BA ILK im WS 2021/
 22
LAST-MODIFIED:20211029T090028Z
LOCATION:https://webconf.hrz.uni-marburg.de/b/car-pcq-pf9
URL:https://www.uni-marburg.de/de/cnms/iranistik/aktuelles/termine/vortrag
 -zickzack-bedeutet-trotzdem-vorwaerts-erste-jahre-mit-einem-iranistik-absc
 hluss201d
END:VEVENT
BEGIN:VTIMEZONE
TZID:Europe/Berlin
X-LIC-LOCATION:Europe/Berlin
BEGIN:STANDARD
DTSTART:20211031T020000
TZNAME:CET
TZOFFSETFROM:+0200
TZOFFSETTO:+0100
END:STANDARD
END:VTIMEZONE
END:VCALENDAR
