BEGIN:VCALENDAR
VERSION:2.0
PRODID:-//Plone.org//NONSGML plone.app.event//EN
X-WR-TIMEZONE:Europe/Berlin
BEGIN:VEVENT
SUMMARY:Zentralasien-Exkursion - letztes Treffen vor der Abreise
DTSTART;TZID=Europe/Berlin:20240514T160000
DTEND;TZID=Europe/Berlin:20240514T170000
DTSTAMP:20260421T181712Z
UID:6821f98d75a14320b10dafe1a5dcbeec@www.uni-marburg.de
CREATED:20240423T110440Z
DESCRIPTION:https://www.uni-marburg.de/de/cnms/iranistik/aktuelles/termine
 /zentralasien-exkursion-letztes-treffen-vor-der-abreise\nLetztes Exkursion
 streffen vor Abreise
LAST-MODIFIED:20240423T110453Z
LOCATION:CNMS\, Deutschhausstraße 12\, Casino
URL:https://www.uni-marburg.de/de/cnms/iranistik/aktuelles/termine/zentral
 asien-exkursion-letztes-treffen-vor-der-abreise
END:VEVENT
BEGIN:VTIMEZONE
TZID:Europe/Berlin
X-LIC-LOCATION:Europe/Berlin
BEGIN:DAYLIGHT
DTSTART:20240331T030000
TZNAME:CEST
TZOFFSETFROM:+0100
TZOFFSETTO:+0200
END:DAYLIGHT
END:VTIMEZONE
END:VCALENDAR
