BEGIN:VCALENDAR
VERSION:2.0
PRODID:-//Plone.org//NONSGML plone.app.event//EN
X-WR-TIMEZONE:Europe/Berlin
BEGIN:VEVENT
SUMMARY:EMEA Welcome & Introduction Meeting Summer 2026
DTSTART;TZID=Europe/Berlin:20260401T100000
DTEND;TZID=Europe/Berlin:20260401T120000
DTSTAMP:20260421T160407Z
UID:8b5c716ac49c4eae9941dbcffd774c10@www.uni-marburg.de
CATEGORIES:()
CREATED:20260213T084040Z
DESCRIPTION:https://www.uni-marburg.de/de/cnms/wirtschaft/aktuelles/termin
 e/emea-welcome-introduction-meeting-summer-2026\n
LAST-MODIFIED:20260213T084614Z
LOCATION:Hörsaal 00A26 (Deutschhausstr. 12)
URL:https://www.uni-marburg.de/de/cnms/wirtschaft/aktuelles/termine/emea-w
 elcome-introduction-meeting-summer-2026
END:VEVENT
BEGIN:VTIMEZONE
TZID:Europe/Berlin
X-LIC-LOCATION:Europe/Berlin
BEGIN:DAYLIGHT
DTSTART:20260329T030000
TZNAME:CEST
TZOFFSETFROM:+0100
TZOFFSETTO:+0200
END:DAYLIGHT
END:VTIMEZONE
END:VCALENDAR
