BEGIN:VCALENDAR
VERSION:2.0
PRODID:-//Plone.org//NONSGML plone.app.event//EN
X-WR-TIMEZONE:Europe/Berlin
BEGIN:VEVENT
SUMMARY:Klausureinsicht (1.Termin) "Methods of Middle East Economics"
DTSTART;TZID=Europe/Berlin:20200828T090000
DTEND;TZID=Europe/Berlin:20200828T120000
DTSTAMP:20260424T134637Z
UID:3d705123dc504ce891578a152a0643a6@www.uni-marburg.de
CREATED:20200720T151319Z
DESCRIPTION:https://www.uni-marburg.de/de/cnms/wirtschaft/aktuelles/termin
 e/klausureinsicht-1-termin-methods-of-middle-east-economics\n
LAST-MODIFIED:20200819T110514Z
LOCATION:CNMS/R.01A34
URL:https://www.uni-marburg.de/de/cnms/wirtschaft/aktuelles/termine/klausu
 reinsicht-1-termin-methods-of-middle-east-economics
END:VEVENT
BEGIN:VTIMEZONE
TZID:Europe/Berlin
X-LIC-LOCATION:Europe/Berlin
BEGIN:DAYLIGHT
DTSTART:20200329T030000
TZNAME:CEST
TZOFFSETFROM:+0100
TZOFFSETTO:+0200
END:DAYLIGHT
END:VTIMEZONE
END:VCALENDAR
