BEGIN:VCALENDAR
VERSION:2.0
PRODID:-//Plone.org//NONSGML plone.app.event//EN
X-WR-TIMEZONE:Europe/Berlin
BEGIN:VEVENT
SUMMARY:Master Day 2026: Introduction to the M.Sc. Economics of the Middle
  East (EMEA)
DTSTART;TZID=Europe/Berlin:20260618T151500
DTEND;TZID=Europe/Berlin:20260618T160000
DTSTAMP:20260425T061009Z
UID:02308b540f354acfbdfbdcb59e5473ad@www.uni-marburg.de
CREATED:20260216T100728Z
DESCRIPTION:https://www.uni-marburg.de/de/cnms/wirtschaft/aktuelles/termin
 e/master-day-2026-introduction-to-the-m-sc-economics-of-the-middle-east-em
 ea\n
LAST-MODIFIED:20260216T100744Z
LOCATION:Online
URL:https://www.uni-marburg.de/de/cnms/wirtschaft/aktuelles/termine/master
 -day-2026-introduction-to-the-m-sc-economics-of-the-middle-east-emea
END:VEVENT
BEGIN:VTIMEZONE
TZID:Europe/Berlin
X-LIC-LOCATION:Europe/Berlin
BEGIN:DAYLIGHT
DTSTART:20260329T030000
TZNAME:CEST
TZOFFSETFROM:+0100
TZOFFSETTO:+0200
END:DAYLIGHT
END:VTIMEZONE
END:VCALENDAR
