BEGIN:VCALENDAR
VERSION:2.0
PRODID:-//Plone.org//NONSGML plone.app.event//EN
X-WR-TIMEZONE:Europe/Berlin
BEGIN:VEVENT
SUMMARY:Gruppenpraktikum in der Verwaltung im Frühjahr 2025
DTSTART;VALUE=DATE:20250224
DTEND;VALUE=DATE:20250324
DTSTAMP:20260421T100617Z
UID:901e88ef861844e2be2fe2c4dcde1e5e@www.uni-marburg.de
CREATED:20231127T145559Z
DESCRIPTION:https://www.uni-marburg.de/de/fb01/aktuelles/termine/copy_of_g
 ruppenpraktikum-in-der-verwaltung\n
LAST-MODIFIED:20240726T134614Z
LOCATION:Marburg
URL:https://www.uni-marburg.de/de/fb01/aktuelles/termine/copy_of_gruppenpr
 aktikum-in-der-verwaltung
END:VEVENT
END:VCALENDAR
