BEGIN:VCALENDAR
VERSION:2.0
PRODID:-//Plone.org//NONSGML plone.app.event//EN
X-WR-TIMEZONE:Europe/Berlin
BEGIN:VEVENT
SUMMARY:Gerichtspraktikum Herbst 2024
DTSTART;VALUE=DATE:20240902
DTEND;VALUE=DATE:20241002
DTSTAMP:20260419T230216Z
UID:51f1fadda8a0425a9ac1c6ed703203fb@www.uni-marburg.de
CREATED:20230720T133647Z
DESCRIPTION:https://www.uni-marburg.de/de/fb01/aktuelles/termine/gerichtsp
 raktikum-herbst-2024\n
LAST-MODIFIED:20240416T074310Z
LOCATION:Marburg
URL:https://www.uni-marburg.de/de/fb01/aktuelles/termine/gerichtspraktikum
 -herbst-2024
END:VEVENT
END:VCALENDAR
