BEGIN:VCALENDAR
VERSION:2.0
PRODID:-//Plone.org//NONSGML plone.app.event//EN
X-WR-TIMEZONE:Europe/Berlin
BEGIN:VEVENT
SUMMARY:Gruppenpraktikum in der Verwaltung im Herbst 2024
DTSTART;VALUE=DATE:20240902
DTEND;VALUE=DATE:20241002
DTSTAMP:20260424T131757Z
UID:f2ea4591e095426d8b9f3614a49f1ca2@www.uni-marburg.de
CREATED:20231204T133250Z
DESCRIPTION:https://www.uni-marburg.de/de/fb01/aktuelles/termine/gruppenpr
 aktikum-in-der-verwaltung-im-herbst-2024\n
LAST-MODIFIED:20231204T133515Z
LOCATION:Marburg
URL:https://www.uni-marburg.de/de/fb01/aktuelles/termine/gruppenpraktikum-
 in-der-verwaltung-im-herbst-2024
END:VEVENT
END:VCALENDAR
