BEGIN:VCALENDAR
VERSION:2.0
PRODID:-//Plone.org//NONSGML plone.app.event//EN
X-WR-TIMEZONE:Europe/Berlin
BEGIN:VEVENT
SUMMARY:Infoveranstaltung Master „Grundzüge des deutschen Rechtssystems
DTSTART;TZID=Europe/Berlin:20241008T140000
DTEND;TZID=Europe/Berlin:20241008T160000
DTSTAMP:20260421T100714Z
UID:d2fb9cb2b21949febf98fc659e36c8f8@www.uni-marburg.de
CREATED:20240626T104606Z
DESCRIPTION:https://www.uni-marburg.de/de/fb01/aktuelles/termine/infoveran
 staltung-master-grundzuege-des-deutschen-rechtssystems\n
LAST-MODIFIED:20240626T104648Z
LOCATION:Raum 105 (+1/0050) Universitätsstraße 6\, Savignyhaus (U I 03)
URL:https://www.uni-marburg.de/de/fb01/aktuelles/termine/infoveranstaltung
 -master-grundzuege-des-deutschen-rechtssystems
END:VEVENT
BEGIN:VTIMEZONE
TZID:Europe/Berlin
X-LIC-LOCATION:Europe/Berlin
BEGIN:DAYLIGHT
DTSTART:20240331T030000
TZNAME:CEST
TZOFFSETFROM:+0100
TZOFFSETTO:+0200
END:DAYLIGHT
END:VTIMEZONE
END:VCALENDAR
