BEGIN:VCALENDAR
VERSION:2.0
PRODID:-//Plone.org//NONSGML plone.app.event//EN
X-WR-TIMEZONE:Europe/Berlin
BEGIN:VEVENT
SUMMARY:Redaktionssitzung Marburg Law Review (MLR)
DTSTART;TZID=Europe/Berlin:20240709T160000
DTSTAMP:20260421T144006Z
UID:cf405263a2b9412694d9634ffca94afb@www.uni-marburg.de
CREATED:20240612T072225Z
DESCRIPTION:https://www.uni-marburg.de/de/fb01/aktuelles/termine/redaktion
 ssitzung-marburg-law-review-mlr-3\n
LAST-MODIFIED:20240612T072242Z
LOCATION:Online
URL:https://www.uni-marburg.de/de/fb01/aktuelles/termine/redaktionssitzung
 -marburg-law-review-mlr-3
END:VEVENT
BEGIN:VTIMEZONE
TZID:Europe/Berlin
X-LIC-LOCATION:Europe/Berlin
BEGIN:DAYLIGHT
DTSTART:20240331T030000
TZNAME:CEST
TZOFFSETFROM:+0100
TZOFFSETTO:+0200
END:DAYLIGHT
END:VTIMEZONE
END:VCALENDAR
