BEGIN:VCALENDAR
VERSION:2.0
PRODID:-//Plone.org//NONSGML plone.app.event//EN
X-WR-TIMEZONE:Europe/Berlin
BEGIN:VEVENT
SUMMARY:Schwerpunkt- und Nebenfachklausur Digitale Vertragsgestaltung
DTSTART;TZID=Europe/Berlin:20260218T100000
DTEND;TZID=Europe/Berlin:20260218T120000
DTSTAMP:20260420T184048Z
UID:37a0ab9d315d4475a77930737e27a0b0@www.uni-marburg.de
CREATED:20260209T103823Z
DESCRIPTION:https://www.uni-marburg.de/de/fb01/aktuelles/termine/schwerpun
 kt-und-nebenfachklausur-digitale-vertragsgestaltung\n
LAST-MODIFIED:20260209T104509Z
LOCATION:LH 204
URL:https://www.uni-marburg.de/de/fb01/aktuelles/termine/schwerpunkt-und-n
 ebenfachklausur-digitale-vertragsgestaltung
END:VEVENT
BEGIN:VTIMEZONE
TZID:Europe/Berlin
X-LIC-LOCATION:Europe/Berlin
BEGIN:STANDARD
DTSTART:20251026T020000
TZNAME:CET
TZOFFSETFROM:+0200
TZOFFSETTO:+0100
END:STANDARD
END:VTIMEZONE
END:VCALENDAR
