BEGIN:VCALENDAR
VERSION:2.0
PRODID:-//Plone.org//NONSGML plone.app.event//EN
X-WR-TIMEZONE:Europe/Berlin
BEGIN:VEVENT
SUMMARY:Schwerpunkt- und Nebenfachklausur Insolvenzrecht
DTSTART;TZID=Europe/Berlin:20260218T100000
DTEND;TZID=Europe/Berlin:20260218T120000
DTSTAMP:20260422T025520Z
UID:1eab0f92a0384fde8c1129a9c1517d42@www.uni-marburg.de
CREATED:20260202T091752Z
DESCRIPTION:https://www.uni-marburg.de/de/fb01/aktuelles/termine/schwerpun
 kt-und-nebenfachklausur-insolvenzrecht\n
LAST-MODIFIED:20260202T102451Z
LOCATION:LH 204
URL:https://www.uni-marburg.de/de/fb01/aktuelles/termine/schwerpunkt-und-n
 ebenfachklausur-insolvenzrecht
END:VEVENT
BEGIN:VTIMEZONE
TZID:Europe/Berlin
X-LIC-LOCATION:Europe/Berlin
BEGIN:STANDARD
DTSTART:20251026T020000
TZNAME:CET
TZOFFSETFROM:+0200
TZOFFSETTO:+0100
END:STANDARD
END:VTIMEZONE
END:VCALENDAR
